BEGIN:VCALENDAR
VERSION:2.0
PRODID:-//Transpersonal Hypnotherapy School - ECPv6.15.20//NONSGML v1.0//EN
CALSCALE:GREGORIAN
METHOD:PUBLISH
X-ORIGINAL-URL:https://transpersonalhypnotherapyschool.com
X-WR-CALDESC:Events for Transpersonal Hypnotherapy School
REFRESH-INTERVAL;VALUE=DURATION:PT1H
X-Robots-Tag:noindex
X-PUBLISHED-TTL:PT1H
BEGIN:VTIMEZONE
TZID:UTC
BEGIN:STANDARD
TZOFFSETFROM:+0000
TZOFFSETTO:+0000
TZNAME:UTC
DTSTART:20250101T000000
END:STANDARD
END:VTIMEZONE
BEGIN:VEVENT
DTSTART;TZID=UTC:20260502T093000
DTEND;TZID=UTC:20260502T170000
DTSTAMP:20260422T093426
CREATED:20200416T201207Z
LAST-MODIFIED:20260409T220846Z
UID:355-1777714200-1777741200@transpersonalhypnotherapyschool.com
SUMMARY:Breath Workshop ~ A Doorway To The Divine
DESCRIPTION:Breath Workshop ~ A Doorway To The Divine\nDate: Saturday\, May 2\, 2026 Time: 9:30 am – 5:00 pm. Investment: $75.00 Early Bird until April 11\, 2026. (After $95.). \nThis Breath Workshop is a powerful tool for transformation\, healing and reconnection to the true essence of who you are. For thousands of years\, mystical traditions of the world have utilized breathing techniques for healing and awakening to higher states of consciousness. The process itself is very simple and pure. A circular\, connected\, breathing rhythm will take you into self-exploration and non-ordinary states of consciousness. \nBe ready for a deep dive into the inner landscapes of soul to discover your “True Self”. Join us to bring light into old wounds\, trauma\, anxiety\, limiting beliefs and dysfunctional patterns. A transformed you will experience the mystery of who you are as expansive and empowered. \nRainya has decades of experience teaching the healing power of the breath. This workshop is highly experiential and the healing wisdom will stay with you long after the day’s journey. \n\n  \n   \n\n\n\n        \n        Breath Workshop\n      \n\n\n\n        \n            Early Bird until April 11 $75.00 USD\n          \n            After April 11 $95.00 USD
URL:https://transpersonalhypnotherapyschool.com/event/breathwork/
LOCATION:The Institute for Transpersonal Studies\, 420 Happy Valley Road\, Santa Cruz\, CA\, 95065\, United States
ATTACH;FMTTYPE=image/png:https://transpersonalhypnotherapyschool.com/wp-content/uploads/2020/05/MilkyFermony.png
ORGANIZER;CN="Rainya M. Dann":MAILTO:rainya@rainyadann.com
END:VEVENT
END:VCALENDAR